BEGIN:VCALENDAR
VERSION:2.0
PRODID:-//Central Florida Astronomical Society - ECPv6.15.20//NONSGML v1.0//EN
CALSCALE:GREGORIAN
METHOD:PUBLISH
X-ORIGINAL-URL:https://cfas.org
X-WR-CALDESC:Events for Central Florida Astronomical Society
REFRESH-INTERVAL;VALUE=DURATION:PT1H
X-Robots-Tag:noindex
X-PUBLISHED-TTL:PT1H
BEGIN:VTIMEZONE
TZID:America/New_York
BEGIN:DAYLIGHT
TZOFFSETFROM:-0500
TZOFFSETTO:-0400
TZNAME:EDT
DTSTART:20250309T070000
END:DAYLIGHT
BEGIN:STANDARD
TZOFFSETFROM:-0400
TZOFFSETTO:-0500
TZNAME:EST
DTSTART:20251102T060000
END:STANDARD
BEGIN:DAYLIGHT
TZOFFSETFROM:-0500
TZOFFSETTO:-0400
TZNAME:EDT
DTSTART:20260308T070000
END:DAYLIGHT
BEGIN:STANDARD
TZOFFSETFROM:-0400
TZOFFSETTO:-0500
TZNAME:EST
DTSTART:20261101T060000
END:STANDARD
BEGIN:DAYLIGHT
TZOFFSETFROM:-0500
TZOFFSETTO:-0400
TZNAME:EDT
DTSTART:20270314T070000
END:DAYLIGHT
BEGIN:STANDARD
TZOFFSETFROM:-0400
TZOFFSETTO:-0500
TZNAME:EST
DTSTART:20271107T060000
END:STANDARD
END:VTIMEZONE
BEGIN:VEVENT
DTSTART;TZID=America/New_York:20260508T163000
DTEND;TZID=America/New_York:20260508T233000
DTSTAMP:20260423T105427
CREATED:20250909T223203Z
LAST-MODIFIED:20250909T223217Z
UID:4290-1778257800-1778283000@cfas.org
SUMMARY:Dark Sky Astro Night (Member Exclusive)
DESCRIPTION:Join us for our recurrent member exclusive Dark Sky Astro Night at our remote private location\, yet close to Orlando and area.\nThis event is weather permitting. Please check your messages in our members’ messaging system before you go. \nMembers are encouraged to arrive early to set up their telescopes and equipment before night fall\, and mingle with other members sharing the joy of observing and practicing astro-photography in a Bortle 4 area\, right in the middle of Central Florida! \nIf you are beginning in astronomy or have questions about your new telescope\, or no telescope at all and just want to tag along\, this is the perfect opportunity for you to meet with enthusiast members who will be more than happy to guide you and help you with your set up or to show you the beauty of the night sky! \nIf you are not a member yet\, you can register HERE \nMore dates are available\, see our Events tab! \n  \n 
URL:https://cfas.org/event/dark-sky-astro-night-member-exclusive-44/
LOCATION:CFAS private Observation Location – Geneva\, FL\, United States
CATEGORIES:Members Observation Events
ATTACH;FMTTYPE=image/jpeg:https://cfas.org/wp-content/uploads/2025/01/COMPOSITE-GENEVA-scaled.jpg
END:VEVENT
BEGIN:VEVENT
DTSTART;TZID=America/New_York:20260509T163000
DTEND;TZID=America/New_York:20260509T233000
DTSTAMP:20260423T105427
CREATED:20250909T223248Z
LAST-MODIFIED:20250909T223248Z
UID:4291-1778344200-1778369400@cfas.org
SUMMARY:Dark Sky Astro Night (Member Exclusive)
DESCRIPTION:Join us for our recurrent member exclusive Dark Sky Astro Night at our remote private location\, yet close to Orlando and area.\nThis event is weather permitting. Please check your messages in our members’ messaging system before you go. \nMembers are encouraged to arrive early to set up their telescopes and equipment before night fall\, and mingle with other members sharing the joy of observing and practicing astro-photography in a Bortle 4 area\, right in the middle of Central Florida! \nIf you are beginning in astronomy or have questions about your new telescope\, or no telescope at all and just want to tag along\, this is the perfect opportunity for you to meet with enthusiast members who will be more than happy to guide you and help you with your set up or to show you the beauty of the night sky! \nIf you are not a member yet\, you can register HERE \nMore dates are available\, see our Events tab! \n  \n 
URL:https://cfas.org/event/dark-sky-astro-night-member-exclusive-45/
LOCATION:CFAS private Observation Location – Geneva\, FL\, United States
CATEGORIES:Members Observation Events
ATTACH;FMTTYPE=image/jpeg:https://cfas.org/wp-content/uploads/2025/01/COMPOSITE-GENEVA-scaled.jpg
END:VEVENT
BEGIN:VEVENT
DTSTART;TZID=America/New_York:20260515T163000
DTEND;TZID=America/New_York:20260515T233000
DTSTAMP:20260423T105427
CREATED:20250909T223318Z
LAST-MODIFIED:20250909T223318Z
UID:4293-1778862600-1778887800@cfas.org
SUMMARY:Dark Sky Astro Night (Member Exclusive)
DESCRIPTION:Join us for our recurrent member exclusive Dark Sky Astro Night at our remote private location\, yet close to Orlando and area.\nThis event is weather permitting. Please check your messages in our members’ messaging system before you go. \nMembers are encouraged to arrive early to set up their telescopes and equipment before night fall\, and mingle with other members sharing the joy of observing and practicing astro-photography in a Bortle 4 area\, right in the middle of Central Florida! \nIf you are beginning in astronomy or have questions about your new telescope\, or no telescope at all and just want to tag along\, this is the perfect opportunity for you to meet with enthusiast members who will be more than happy to guide you and help you with your set up or to show you the beauty of the night sky! \nIf you are not a member yet\, you can register HERE \nMore dates are available\, see our Events tab! \n  \n 
URL:https://cfas.org/event/dark-sky-astro-night-member-exclusive-46/
LOCATION:CFAS private Observation Location – Geneva\, FL\, United States
CATEGORIES:Members Observation Events
ATTACH;FMTTYPE=image/jpeg:https://cfas.org/wp-content/uploads/2025/01/COMPOSITE-GENEVA-scaled.jpg
END:VEVENT
BEGIN:VEVENT
DTSTART;TZID=America/New_York:20260516T163000
DTEND;TZID=America/New_York:20260516T233000
DTSTAMP:20260423T105427
CREATED:20250909T223350Z
LAST-MODIFIED:20250909T223350Z
UID:4292-1778949000-1778974200@cfas.org
SUMMARY:Dark Sky Astro Night (Member Exclusive)
DESCRIPTION:Join us for our recurrent member exclusive Dark Sky Astro Night at our remote private location\, yet close to Orlando and area.\nThis event is weather permitting. Please check your messages in our members’ messaging system before you go. \nMembers are encouraged to arrive early to set up their telescopes and equipment before night fall\, and mingle with other members sharing the joy of observing and practicing astro-photography in a Bortle 4 area\, right in the middle of Central Florida! \nIf you are beginning in astronomy or have questions about your new telescope\, or no telescope at all and just want to tag along\, this is the perfect opportunity for you to meet with enthusiast members who will be more than happy to guide you and help you with your set up or to show you the beauty of the night sky! \nIf you are not a member yet\, you can register HERE \nMore dates are available\, see our Events tab! \n  \n 
URL:https://cfas.org/event/dark-sky-astro-night-member-exclusive-47/
LOCATION:CFAS private Observation Location – Geneva\, FL\, United States
CATEGORIES:Members Observation Events
ATTACH;FMTTYPE=image/jpeg:https://cfas.org/wp-content/uploads/2025/01/COMPOSITE-GENEVA-scaled.jpg
END:VEVENT
BEGIN:VEVENT
DTSTART;TZID=America/New_York:20260605T163000
DTEND;TZID=America/New_York:20260605T233000
DTSTAMP:20260423T105427
CREATED:20250909T223434Z
LAST-MODIFIED:20250909T223434Z
UID:4298-1780677000-1780702200@cfas.org
SUMMARY:Dark Sky Astro Night (Member Exclusive)
DESCRIPTION:Join us for our recurrent member exclusive Dark Sky Astro Night at our remote private location\, yet close to Orlando and area.\nThis event is weather permitting. Please check your messages in our members’ messaging system before you go. \nMembers are encouraged to arrive early to set up their telescopes and equipment before night fall\, and mingle with other members sharing the joy of observing and practicing astro-photography in a Bortle 4 area\, right in the middle of Central Florida! \nIf you are beginning in astronomy or have questions about your new telescope\, or no telescope at all and just want to tag along\, this is the perfect opportunity for you to meet with enthusiast members who will be more than happy to guide you and help you with your set up or to show you the beauty of the night sky! \nIf you are not a member yet\, you can register HERE \nMore dates are available\, see our Events tab! \n  \n 
URL:https://cfas.org/event/dark-sky-astro-night-member-exclusive-48/
LOCATION:CFAS private Observation Location – Geneva\, FL\, United States
CATEGORIES:Members Observation Events
ATTACH;FMTTYPE=image/jpeg:https://cfas.org/wp-content/uploads/2025/01/COMPOSITE-GENEVA-scaled.jpg
END:VEVENT
BEGIN:VEVENT
DTSTART;TZID=America/New_York:20260606T163000
DTEND;TZID=America/New_York:20260606T233000
DTSTAMP:20260423T105427
CREATED:20250909T223459Z
LAST-MODIFIED:20250909T223459Z
UID:4299-1780763400-1780788600@cfas.org
SUMMARY:Dark Sky Astro Night (Member Exclusive)
DESCRIPTION:Join us for our recurrent member exclusive Dark Sky Astro Night at our remote private location\, yet close to Orlando and area.\nThis event is weather permitting. Please check your messages in our members’ messaging system before you go. \nMembers are encouraged to arrive early to set up their telescopes and equipment before night fall\, and mingle with other members sharing the joy of observing and practicing astro-photography in a Bortle 4 area\, right in the middle of Central Florida! \nIf you are beginning in astronomy or have questions about your new telescope\, or no telescope at all and just want to tag along\, this is the perfect opportunity for you to meet with enthusiast members who will be more than happy to guide you and help you with your set up or to show you the beauty of the night sky! \nIf you are not a member yet\, you can register HERE \nMore dates are available\, see our Events tab! \n  \n 
URL:https://cfas.org/event/dark-sky-astro-night-member-exclusive-49/
LOCATION:CFAS private Observation Location – Geneva\, FL\, United States
CATEGORIES:Members Observation Events
ATTACH;FMTTYPE=image/jpeg:https://cfas.org/wp-content/uploads/2025/01/COMPOSITE-GENEVA-scaled.jpg
END:VEVENT
BEGIN:VEVENT
DTSTART;TZID=America/New_York:20260612T163000
DTEND;TZID=America/New_York:20260612T233000
DTSTAMP:20260423T105427
CREATED:20250909T223529Z
LAST-MODIFIED:20250909T223529Z
UID:4301-1781281800-1781307000@cfas.org
SUMMARY:Dark Sky Astro Night (Member Exclusive)
DESCRIPTION:Join us for our recurrent member exclusive Dark Sky Astro Night at our remote private location\, yet close to Orlando and area.\nThis event is weather permitting. Please check your messages in our members’ messaging system before you go. \nMembers are encouraged to arrive early to set up their telescopes and equipment before night fall\, and mingle with other members sharing the joy of observing and practicing astro-photography in a Bortle 4 area\, right in the middle of Central Florida! \nIf you are beginning in astronomy or have questions about your new telescope\, or no telescope at all and just want to tag along\, this is the perfect opportunity for you to meet with enthusiast members who will be more than happy to guide you and help you with your set up or to show you the beauty of the night sky! \nIf you are not a member yet\, you can register HERE \nMore dates are available\, see our Events tab! \n  \n 
URL:https://cfas.org/event/dark-sky-astro-night-member-exclusive-50/
LOCATION:CFAS private Observation Location – Geneva\, FL\, United States
CATEGORIES:Members Observation Events
ATTACH;FMTTYPE=image/jpeg:https://cfas.org/wp-content/uploads/2025/01/COMPOSITE-GENEVA-scaled.jpg
END:VEVENT
BEGIN:VEVENT
DTSTART;TZID=America/New_York:20260613T163000
DTEND;TZID=America/New_York:20260613T233000
DTSTAMP:20260423T105427
CREATED:20250909T223552Z
LAST-MODIFIED:20250909T223552Z
UID:4300-1781368200-1781393400@cfas.org
SUMMARY:Dark Sky Astro Night (Member Exclusive)
DESCRIPTION:Join us for our recurrent member exclusive Dark Sky Astro Night at our remote private location\, yet close to Orlando and area.\nThis event is weather permitting. Please check your messages in our members’ messaging system before you go. \nMembers are encouraged to arrive early to set up their telescopes and equipment before night fall\, and mingle with other members sharing the joy of observing and practicing astro-photography in a Bortle 4 area\, right in the middle of Central Florida! \nIf you are beginning in astronomy or have questions about your new telescope\, or no telescope at all and just want to tag along\, this is the perfect opportunity for you to meet with enthusiast members who will be more than happy to guide you and help you with your set up or to show you the beauty of the night sky! \nIf you are not a member yet\, you can register HERE \nMore dates are available\, see our Events tab! \n  \n 
URL:https://cfas.org/event/dark-sky-astro-night-member-exclusive-51/
LOCATION:CFAS private Observation Location – Geneva\, FL\, United States
CATEGORIES:Members Observation Events
ATTACH;FMTTYPE=image/jpeg:https://cfas.org/wp-content/uploads/2025/01/COMPOSITE-GENEVA-scaled.jpg
END:VEVENT
END:VCALENDAR