BEGIN:VCALENDAR
VERSION:2.0
PRODID:-//Central Florida Astronomical Society - ECPv6.15.20//NONSGML v1.0//EN
CALSCALE:GREGORIAN
METHOD:PUBLISH
X-WR-CALNAME:Central Florida Astronomical Society
X-ORIGINAL-URL:https://cfas.org
X-WR-CALDESC:Events for Central Florida Astronomical Society
REFRESH-INTERVAL;VALUE=DURATION:PT1H
X-Robots-Tag:noindex
X-PUBLISHED-TTL:PT1H
BEGIN:VTIMEZONE
TZID:America/New_York
BEGIN:DAYLIGHT
TZOFFSETFROM:-0500
TZOFFSETTO:-0400
TZNAME:EDT
DTSTART:20230312T070000
END:DAYLIGHT
BEGIN:STANDARD
TZOFFSETFROM:-0400
TZOFFSETTO:-0500
TZNAME:EST
DTSTART:20231105T060000
END:STANDARD
BEGIN:DAYLIGHT
TZOFFSETFROM:-0500
TZOFFSETTO:-0400
TZNAME:EDT
DTSTART:20240310T070000
END:DAYLIGHT
BEGIN:STANDARD
TZOFFSETFROM:-0400
TZOFFSETTO:-0500
TZNAME:EST
DTSTART:20241103T060000
END:STANDARD
BEGIN:DAYLIGHT
TZOFFSETFROM:-0500
TZOFFSETTO:-0400
TZNAME:EDT
DTSTART:20250309T070000
END:DAYLIGHT
BEGIN:STANDARD
TZOFFSETFROM:-0400
TZOFFSETTO:-0500
TZNAME:EST
DTSTART:20251102T060000
END:STANDARD
END:VTIMEZONE
BEGIN:VEVENT
DTSTART;TZID=America/New_York:20241217T080000
DTEND;TZID=America/New_York:20241217T170000
DTSTAMP:20260424T002916
CREATED:20241202T020859Z
LAST-MODIFIED:20250115T220741Z
UID:3584-1734422400-1734454800@cfas.org
SUMMARY:CFAS supports SALLY RIDE ELEMENTARY SCHOOL - for ARISS project (private event)
DESCRIPTION:CFAS is proud to announce that its members have been working closely with Sally Ride Elementary School to help them prepare for their ARISS project. \nSally Ride Elementary has been selected amongst a very short list of schools to spend 10 minutes talking through HAM radio to the astronauts on board the ISS the second week of December. \nSally Ride approached CFAS for help preparing and our members jumped in\, organizing an outreach star party\, and participating in teach-in day as well as offering through our Observation Chair Mr. Derek Demeter\, a field trip to the Emil Buehler Planetarium for the entire magnet class (70 students). \nStay Tuned for a report on the actual event! \n 
URL:https://cfas.org/event/cfas-supports-sally-ride-elementary-school-for-ariss-project/
CATEGORIES:School Outreach
ATTACH;FMTTYPE=image/png:https://cfas.org/wp-content/uploads/2024/12/ARISS_2.png
END:VEVENT
END:VCALENDAR