BEGIN:VCALENDAR
VERSION:2.0
PRODID:-//Central Florida Astronomical Society - ECPv6.15.20//NONSGML v1.0//EN
CALSCALE:GREGORIAN
METHOD:PUBLISH
X-ORIGINAL-URL:https://cfas.org
X-WR-CALDESC:Events for Central Florida Astronomical Society
REFRESH-INTERVAL;VALUE=DURATION:PT1H
X-Robots-Tag:noindex
X-PUBLISHED-TTL:PT1H
BEGIN:VTIMEZONE
TZID:America/New_York
BEGIN:DAYLIGHT
TZOFFSETFROM:-0500
TZOFFSETTO:-0400
TZNAME:EDT
DTSTART:20240310T070000
END:DAYLIGHT
BEGIN:STANDARD
TZOFFSETFROM:-0400
TZOFFSETTO:-0500
TZNAME:EST
DTSTART:20241103T060000
END:STANDARD
BEGIN:DAYLIGHT
TZOFFSETFROM:-0500
TZOFFSETTO:-0400
TZNAME:EDT
DTSTART:20250309T070000
END:DAYLIGHT
BEGIN:STANDARD
TZOFFSETFROM:-0400
TZOFFSETTO:-0500
TZNAME:EST
DTSTART:20251102T060000
END:STANDARD
BEGIN:DAYLIGHT
TZOFFSETFROM:-0500
TZOFFSETTO:-0400
TZNAME:EDT
DTSTART:20260308T070000
END:DAYLIGHT
BEGIN:STANDARD
TZOFFSETFROM:-0400
TZOFFSETTO:-0500
TZNAME:EST
DTSTART:20261101T060000
END:STANDARD
BEGIN:DAYLIGHT
TZOFFSETFROM:-0500
TZOFFSETTO:-0400
TZNAME:EDT
DTSTART:20270314T070000
END:DAYLIGHT
BEGIN:STANDARD
TZOFFSETFROM:-0400
TZOFFSETTO:-0500
TZNAME:EST
DTSTART:20271107T060000
END:STANDARD
END:VTIMEZONE
BEGIN:VEVENT
DTSTART;TZID=America/New_York:20260319T180000
DTEND;TZID=America/New_York:20260319T190000
DTSTAMP:20260423T174411
CREATED:20260312T210435Z
LAST-MODIFIED:20260312T210735Z
UID:4790-1773943200-1773946800@cfas.org
SUMMARY:CFAS in partnership with Orlando Museum of Art - Free talk about Space Memorabilia
DESCRIPTION:You’re Invited!  \nCFAS is partnering with the Orlando Museum of Art to bring you a really engaging talk about Space Memorabilia and Art! \nThursday\, March 19 at 6 pm\, artist Dennis Scholl will be in conversation with Nicole Stott about memory\, art\, and space memorabilia. \nhttps://www.eventbrite.com/e/art-memory-and-space-a-conversation-with-dennis-scholl-and-nicole-stott-tickets-1984920047294?aff=erelexpmlt \nEarlier that day at noon\, our Art Sandwiched In program will feature Mark Marquette\, director of the American Space Museum. \nRockets and Relics with the American Space Museum \nCome learn about the American Space Museum in Titusville and its director\, Mark Marquette. He hosts the long-running YouTube podcast Stay Curious\, with more than 1\,400 episodes on space history and current events and is the recipient of the 2024 Harry S. Kolcum Award for Communications. A Brevard County community leader since 2017\, Marquette has led major nonprofit initiatives\, served as past president of the Brevard Astronomical Society\, and founded ShuttleFest\, an annual gathering celebrating space history\, workers\, and local memorabilia. \nReservation required.  \n  \n\nLearn more\n🌐 CFAS: cfas.org\n🌐 Orlando Museum of Art: orlandomuseum.org \n\nBring your curiosity and your family — and enjoy the talk! \n\n  \n \n 
URL:https://cfas.org/event/talk_space_memorabilia/
LOCATION:Orlando Museum of Art\, 2416 N Mills Ave\, ORLANDO\, FL\, 32803\, United States
CATEGORIES:General Public Outreach,Seasonal Events
ATTACH;FMTTYPE=image/webp:https://cfas.org/wp-content/uploads/2026/03/Space_memorabilia.webp
END:VEVENT
BEGIN:VEVENT
DTSTART;TZID=America/New_York:20250417T100000
DTEND;TZID=America/New_York:20250418T160000
DTSTAMP:20260423T174411
CREATED:20241202T022224Z
LAST-MODIFIED:20250415T154646Z
UID:3589-1744884000-1744992000@cfas.org
SUMMARY:Beautiful Astrophotography exhibition at the Orlando Museum of Art by CFAS members
DESCRIPTION:CFAS has been offered a unique opportunity by Coralie Claeysen-Gleyzon\, chief curator at the Orlando Museum of Art:  \nAn exclusive exhibition of our members’ astrophotography work.\nYou’re Invited! 🌌✨ \nDont’ miss the Orlando Museum of Art – Astrophotography Exhibition by our own CFAS members! \nWhen:\nThursday\, April 17\, 2025 through\nFriday\, April 18\, 2025 \nWhere:\nOrlando Museum of Art – 2416 N Mills Ave\, Orlando\, FL 32803 \nDescription: \n💫 You’re Invited! 💫\nCentral Florida Astronomical Society presents:\nThe Cosmos Through Our Eyes\nAstrophotography Exhibition & Interactive Telescope Experience\nApril 17–18\, 2025 | Orlando Museum of Art \nJoin us for a two-day celebration of the night sky\, science\, and the incredible talents of our own CFAS astrophotographers! \n🗓 April 17 | 10 AM – 9 PM\n🗓 April 18 | 10 AM – 4 PM \n📍 Orlando Museum of Art \n\n🌌 Featured Highlights:\nApril 17 – Free Admission to Museum & Exhibit\n\nAstrophotography Exhibition (10 AM – 8 PM)\nMarvel at stunning celestial images captured by our dedicated CFAS members.\nSolar Observation (Throughout the day)\nSafely view our closest star through specialized solar telescopes.\nSpecial Guest Talk – Frank Kane\n🎤 “The Cosmic Perspective: Exploring the Intersection of Astronomy and Art”\nPart of OMA’s Art Sandwiched In series. Don’t miss this inspiring dive into how the cosmos fuels creativity.\n📍 OMA Auditorium | 12:00 PM – 1:00 PM\n\nNight Sky Observation (8 PM – 9 PM\, Museum Entrance Patio)\nGaze at the stars and planets with CFAS telescopes under the Orlando sky.\n\nApril 18 – Free Astro Exhibit\, Museum Admission Not Included\n\nAstrophotography Exhibition (10 AM – 4 PM)\nSolar Observation continues!\n\n\n🔭 A Tribute to Our Stargazers\nThis exhibition is more than just a display — it’s a heartfelt tribute to the passion\, patience\, and precision of CFAS’s amateur astronomers. These awe-inspiring images remind us that the wonders of the universe are not only above us\, but within reach for anyone willing to look up. \nCome celebrate our cosmic community and experience the universe as seen through the eyes — and lenses — of your fellow skywatchers. \nOpen to all. Bring friends\, family\, and fellow space enthusiasts!\nWe can’t wait to share the stars with you. \nYou’re invited!\n 
URL:https://cfas.org/event/cfas-invited-to-omoa-for-a-private-astrophotography-exhibition-save-the-date/
LOCATION:Orlando Museum of Art\, 2416 N Mills Ave\, ORLANDO\, FL\, 32803\, United States
CATEGORIES:General Public Outreach
ATTACH;FMTTYPE=image/jpeg:https://cfas.org/wp-content/uploads/2024/12/IMG_5185.jpg
END:VEVENT
BEGIN:VEVENT
DTSTART;TZID=America/New_York:20250215T183000
DTEND;TZID=America/New_York:20250215T193000
DTSTAMP:20260423T174411
CREATED:20250123T004417Z
LAST-MODIFIED:20250123T004417Z
UID:3767-1739644200-1739647800@cfas.org
SUMMARY:COSMIC VALENTINE STAR PARTY
DESCRIPTION:When\nSaturday\, February 15\, 2025 6:30 pm – 7:30 pm EST\n\n\nWhere\nGamble Rogers Memorial State Recreation Area At Flagler Beach \n3100 South Oceanshore Blvd\nFlagler Beach FL 32136 \n\n\n\nDirections\n\nBeachside Pavilion \n\n\n\nFees\n\nRegular park entrance fee applies:\n$5.00 per vehicle — limit 2-8 people per vehicle\n$4.00 per single-occupant vehicle\n$2.00 per pedestrians\, bicyclists\, extra passengers\, passengers in vehicle with holder of Annual Individual Entrance Pass. \n\n\n\nDescription\n\nJoin us for a magical evening under the stars! Central Florida Astronomical Society and a NASA/JPL Solar System Ambassador invite you to explore the wonders of the night sky during our Cosmic Valentine star party (weather pending). \nUsing telescopes and guided instruction from astronomers\, you’ll have the opportunity to identify constellations\, planets\, and other prominent celestial objects. No astronomy experience is needed—whether you’re a seasoned stargazer or a curious beginner\, this event promises to be a stellar experience for everyone! Meet at the beachside pavilion.
URL:https://cfas.org/event/cosmic-valentine-star-party/
LOCATION:Gamble Rogers Memorial State Recreation Area At Flagler Beach\, 3100 South Oceanshore Blvd\, Flagler Beach\, FLORIDA\, 32136
CATEGORIES:General Public Outreach,Seasonal Events
ATTACH;FMTTYPE=image/jpeg:https://cfas.org/wp-content/uploads/2025/01/IC1805.final_heart-scaled.jpg
END:VEVENT
END:VCALENDAR